BEGIN:VCALENDAR
VERSION:2.0
PRODID:-//EMC Medical Training - ECPv6.15.20//NONSGML v1.0//EN
CALSCALE:GREGORIAN
METHOD:PUBLISH
X-ORIGINAL-URL:https://www.emcmedicaltraining.com
X-WR-CALDESC:Events for EMC Medical Training
REFRESH-INTERVAL;VALUE=DURATION:PT1H
X-Robots-Tag:noindex
X-PUBLISHED-TTL:PT1H
BEGIN:VTIMEZONE
TZID:America/New_York
BEGIN:DAYLIGHT
TZOFFSETFROM:-0500
TZOFFSETTO:-0400
TZNAME:EDT
DTSTART:20250309T070000
END:DAYLIGHT
BEGIN:STANDARD
TZOFFSETFROM:-0400
TZOFFSETTO:-0500
TZNAME:EST
DTSTART:20251102T060000
END:STANDARD
BEGIN:DAYLIGHT
TZOFFSETFROM:-0500
TZOFFSETTO:-0400
TZNAME:EDT
DTSTART:20260308T070000
END:DAYLIGHT
BEGIN:STANDARD
TZOFFSETFROM:-0400
TZOFFSETTO:-0500
TZNAME:EST
DTSTART:20261101T060000
END:STANDARD
BEGIN:DAYLIGHT
TZOFFSETFROM:-0500
TZOFFSETTO:-0400
TZNAME:EDT
DTSTART:20270314T070000
END:DAYLIGHT
BEGIN:STANDARD
TZOFFSETFROM:-0400
TZOFFSETTO:-0500
TZNAME:EST
DTSTART:20271107T060000
END:STANDARD
END:VTIMEZONE
BEGIN:VEVENT
DTSTART;TZID=America/New_York:20261003T083000
DTEND;TZID=America/New_York:20261003T153000
DTSTAMP:20260425T200156
CREATED:20250925T195700Z
LAST-MODIFIED:20250925T195700Z
UID:10002214-1791016200-1791041400@www.emcmedicaltraining.com
SUMMARY:AHA ACLS  1 Day Refresher
DESCRIPTION:ACLS Refresher Course at Emergency Medical Consultants in Port St. Lucie\, Florida. Prior registration is required. \nCancellation & Rescheduling Policy – Course sizes are limited\, ratios are strict\, and spaces often fill. We must enforce the following: \n• >5 business days’ notice: No fee (except TNCC\, ENPC\, Phlebotomy\, EKG\, Instructor & Online – see below). Max 2 reschedules; must be used within 6 months. \n• 2–5 business days’ notice: 50% fee (except courses listed above). \n• <48 hrs/No-Show: No refunds. Non-reschedulable. \n• TNCC/ENPC: Non-refundable within 30 days; >30 days = 50% refund. \n• Phlebotomy\, EKG\, Instructor: & Online Courses: Non-refundable\, non-reschedulable once registered. \nNote: Textbooks & shipping fees are non-refundable.
URL:https://www.emcmedicaltraining.com/event/aha-acls-1-day-refresher-36/
LOCATION:EMC\, 595 SE Port St. Lucie Blvd\, Port St. Lucie\, FL\, 34985\, United States
CATEGORIES:ACLS
GEO:27.2728181;-80.3349485
X-APPLE-STRUCTURED-LOCATION;VALUE=URI;X-ADDRESS=EMC 595 SE Port St. Lucie Blvd Port St. Lucie FL 34985 United States;X-APPLE-RADIUS=500;X-TITLE=595 SE Port St. Lucie Blvd:geo:-80.3349485,27.2728181
END:VEVENT
BEGIN:VEVENT
DTSTART;TZID=America/New_York:20261012T083000
DTEND;TZID=America/New_York:20261013T153000
DTSTAMP:20260425T200156
CREATED:20250925T205128Z
LAST-MODIFIED:20250925T205128Z
UID:10002233-1791793800-1791905400@www.emcmedicaltraining.com
SUMMARY:AHA ACLS 2 Day Full Course
DESCRIPTION:AHA ACLS 2 Day Full Course at Emergency Medical Consultants in Port St. Lucie\, Florida prior registration is required. \nCancellation & Rescheduling Policy – Course sizes are limited\, ratios are strict\, and spaces often fill. We must enforce the following: \n• >5 business days’ notice: No fee (except TNCC\, ENPC\, Phlebotomy\, EKG\, Instructor & Online – see below). Max 2 reschedules; must be used within 6 months. \n• 2–5 business days’ notice: 50% fee (except courses listed above). \n• <48 hrs/No-Show: No refunds. Non-reschedulable. \n• TNCC/ENPC: Non-refundable within 30 days; >30 days = 50% refund. \n• Phlebotomy\, EKG\, Instructor: & Online Courses: Non-refundable\, non-reschedulable once registered. \nNote: Textbooks & shipping fees are non-refundable.
URL:https://www.emcmedicaltraining.com/event/aha-acls-2-day-full-course-10/
LOCATION:EMC\, 595 SE Port St. Lucie Blvd\, Port St. Lucie\, FL\, 34985\, United States
CATEGORIES:ACLS
GEO:27.2728181;-80.3349485
X-APPLE-STRUCTURED-LOCATION;VALUE=URI;X-ADDRESS=EMC 595 SE Port St. Lucie Blvd Port St. Lucie FL 34985 United States;X-APPLE-RADIUS=500;X-TITLE=595 SE Port St. Lucie Blvd:geo:-80.3349485,27.2728181
END:VEVENT
BEGIN:VEVENT
DTSTART;TZID=America/New_York:20261013T083000
DTEND;TZID=America/New_York:20261014T163000
DTSTAMP:20260425T200156
CREATED:20251205T161309Z
LAST-MODIFIED:20251205T163449Z
UID:10002308-1791880200-1791995400@www.emcmedicaltraining.com
SUMMARY:AHA ACLS 2 Day Full Course @ Nicklaus Children's Hospital (Miami)
DESCRIPTION:AHA ACLS 2 Day Full Course at Nicklaus Children’s Hospital in Miami\, Florida. Prior registration is required. \nCancellation & Rescheduling Policy – Course sizes are limited\, ratios are strict\, and spaces often fill. We must enforce the following: \n• >5 business days’ notice: No fee (except TNCC\, ENPC\, Phlebotomy\, EKG\, Instructor & Online – see below). Max 2 reschedules; must be used within 6 months. \n• 2–5 business days’ notice: 50% fee (except courses listed above). \n• <48 hrs/No-Show: No refunds. Non-reschedulable. \n• TNCC/ENPC: Non-refundable within 30 days; >30 days = 50% refund. \n• Phlebotomy\, EKG\, Instructor: & Online Courses: Non-refundable\, non-reschedulable once registered. \nNote: Textbooks & shipping fees are non-refundable.
URL:https://www.emcmedicaltraining.com/event/aha-acls-2-day-full-course-nicklaus-childrens-hospital-miami-3/
LOCATION:Nicklaus Children’s Hospital (Head Quarters)\, 5301 Blue Lagoon Drive (NW 11th Street) 4th Floor Suite 700\, Miami\, FL\, 33126\, United States
CATEGORIES:ACLS
GEO:25.7823143;-80.2820015
X-APPLE-STRUCTURED-LOCATION;VALUE=URI;X-ADDRESS=Nicklaus Children’s Hospital (Head Quarters) 5301 Blue Lagoon Drive (NW 11th Street) 4th Floor Suite 700 Miami FL 33126 United States;X-APPLE-RADIUS=500;X-TITLE=5301 Blue Lagoon Drive (NW 11th Street) 4th Floor Suite 700:geo:-80.2820015,25.7823143
END:VEVENT
BEGIN:VEVENT
DTSTART;TZID=America/New_York:20261014T083000
DTEND;TZID=America/New_York:20261014T163000
DTSTAMP:20260425T200156
CREATED:20251210T161817Z
LAST-MODIFIED:20251210T162437Z
UID:10002315-1791966600-1791995400@www.emcmedicaltraining.com
SUMMARY:AHA ACLS 1 Day Refresher Course @ Nicklaus Children's Hospital (Miami)
DESCRIPTION:AHA ACLS 1 Day Refresher Course at Nicklaus Children’s Hospital in Miami\, Florida. Prior registration is required. \nCancellation & Rescheduling Policy – Course sizes are limited\, ratios are strict\, and spaces often fill. We must enforce the following: \n• >5 business days’ notice: No fee (except TNCC\, ENPC\, Phlebotomy\, EKG\, Instructor & Online – see below). Max 2 reschedules; must be used within 6 months. \n• 2–5 business days’ notice: 50% fee (except courses listed above). \n• <48 hrs/No-Show: No refunds. Non-reschedulable. \n• TNCC/ENPC: Non-refundable within 30 days; >30 days = 50% refund. \n• Phlebotomy\, EKG\, Instructor: & Online Courses: Non-refundable\, non-reschedulable once registered. \nNote: Textbooks & shipping fees are non-refundable.
URL:https://www.emcmedicaltraining.com/event/aha-acls-1-day-refresher-course-nicklaus-childrens-hospital-miami-5/
LOCATION:Nicklaus Children’s Hospital (Head Quarters)\, 5301 Blue Lagoon Drive (NW 11th Street) 4th Floor Suite 700\, Miami\, FL\, 33126\, United States
CATEGORIES:ACLS
GEO:25.7823143;-80.2820015
X-APPLE-STRUCTURED-LOCATION;VALUE=URI;X-ADDRESS=Nicklaus Children’s Hospital (Head Quarters) 5301 Blue Lagoon Drive (NW 11th Street) 4th Floor Suite 700 Miami FL 33126 United States;X-APPLE-RADIUS=500;X-TITLE=5301 Blue Lagoon Drive (NW 11th Street) 4th Floor Suite 700:geo:-80.2820015,25.7823143
END:VEVENT
BEGIN:VEVENT
DTSTART;TZID=America/New_York:20261017T083000
DTEND;TZID=America/New_York:20261018T163000
DTSTAMP:20260425T200156
CREATED:20251118T212940Z
LAST-MODIFIED:20251118T212940Z
UID:10002290-1792225800-1792341000@www.emcmedicaltraining.com
SUMMARY:AHA ACLS 2 Day Full Course (Jupiter)
DESCRIPTION:AHA ACLS 2 Day Full Course at Jupiter Medical Center in Jupiter\, Florida prior registration is required. \nCancellation & Rescheduling Policy – Course sizes are limited\, ratios are strict\, and spaces often fill. We must enforce the following: \n• >5 business days’ notice: No fee (except TNCC\, ENPC\, Phlebotomy\, EKG\, Instructor & Online – see below). Max 2 reschedules; must be used within 6 months. \n• 2–5 business days’ notice: 50% fee (except courses listed above). \n• <48 hrs/No-Show: No refunds. Non-reschedulable. \n• TNCC/ENPC: Non-refundable within 30 days; >30 days = 50% refund. \n• Phlebotomy\, EKG\, Instructor: & Online Courses: Non-refundable\, non-reschedulable once registered. \nNote: Textbooks & shipping fees are non-refundable.
URL:https://www.emcmedicaltraining.com/event/aha-acls-2-day-full-course-jupiter-10/
LOCATION:Jupiter Medical Center\, 1210 Old Dixie Highway\, Jupiter\, FL\, 33458\, United States
CATEGORIES:ACLS
GEO:26.9225859;-80.0964668
X-APPLE-STRUCTURED-LOCATION;VALUE=URI;X-ADDRESS=Jupiter Medical Center 1210 Old Dixie Highway Jupiter FL 33458 United States;X-APPLE-RADIUS=500;X-TITLE=1210 Old Dixie Highway:geo:-80.0964668,26.9225859
END:VEVENT
BEGIN:VEVENT
DTSTART;TZID=America/New_York:20261018T083000
DTEND;TZID=America/New_York:20261018T153000
DTSTAMP:20260425T200156
CREATED:20251118T175948Z
LAST-MODIFIED:20251118T200713Z
UID:10002276-1792312200-1792337400@www.emcmedicaltraining.com
SUMMARY:AHA ACLS  1 Day Refresher (Jupiter)
DESCRIPTION:ACLS Refresher Course in Jupiter Medical Center in Jupiter\, Florida. Prior registration is required. \nCancellation & Rescheduling Policy – Course sizes are limited\, ratios are strict\, and spaces often fill. We must enforce the following: \n• >5 business days’ notice: No fee (except TNCC\, ENPC\, Phlebotomy\, EKG\, Instructor & Online – see below). Max 2 reschedules; must be used within 6 months. \n• 2–5 business days’ notice: 50% fee (except courses listed above). \n• <48 hrs/No-Show: No refunds. Non-reschedulable. \n• TNCC/ENPC: Non-refundable within 30 days; >30 days = 50% refund. \n• Phlebotomy\, EKG\, Instructor: & Online Courses: Non-refundable\, non-reschedulable once registered. \nNote: Textbooks & shipping fees are non-refundable.
URL:https://www.emcmedicaltraining.com/event/aha-acls-1-day-refresher-jupiter-10/
LOCATION:Jupiter Medical Center\, 1210 Old Dixie Highway\, Jupiter\, FL\, 33458\, United States
CATEGORIES:ACLS
GEO:26.9225859;-80.0964668
X-APPLE-STRUCTURED-LOCATION;VALUE=URI;X-ADDRESS=Jupiter Medical Center 1210 Old Dixie Highway Jupiter FL 33458 United States;X-APPLE-RADIUS=500;X-TITLE=1210 Old Dixie Highway:geo:-80.0964668,26.9225859
END:VEVENT
BEGIN:VEVENT
DTSTART;TZID=America/New_York:20261020T083000
DTEND;TZID=America/New_York:20261020T153000
DTSTAMP:20260425T200156
CREATED:20250925T195852Z
LAST-MODIFIED:20250925T195852Z
UID:10002215-1792485000-1792510200@www.emcmedicaltraining.com
SUMMARY:AHA ACLS  1 Day Refresher
DESCRIPTION:ACLS Refresher Course at Emergency Medical Consultants in Port St. Lucie\, Florida. Prior registration is required. \nCancellation & Rescheduling Policy – Course sizes are limited\, ratios are strict\, and spaces often fill. We must enforce the following: \n• >5 business days’ notice: No fee (except TNCC\, ENPC\, Phlebotomy\, EKG\, Instructor & Online – see below). Max 2 reschedules; must be used within 6 months. \n• 2–5 business days’ notice: 50% fee (except courses listed above). \n• <48 hrs/No-Show: No refunds. Non-reschedulable. \n• TNCC/ENPC: Non-refundable within 30 days; >30 days = 50% refund. \n• Phlebotomy\, EKG\, Instructor: & Online Courses: Non-refundable\, non-reschedulable once registered. \nNote: Textbooks & shipping fees are non-refundable.
URL:https://www.emcmedicaltraining.com/event/aha-acls-1-day-refresher-37/
LOCATION:EMC\, 595 SE Port St. Lucie Blvd\, Port St. Lucie\, FL\, 34985\, United States
CATEGORIES:ACLS
GEO:27.2728181;-80.3349485
X-APPLE-STRUCTURED-LOCATION;VALUE=URI;X-ADDRESS=EMC 595 SE Port St. Lucie Blvd Port St. Lucie FL 34985 United States;X-APPLE-RADIUS=500;X-TITLE=595 SE Port St. Lucie Blvd:geo:-80.3349485,27.2728181
END:VEVENT
BEGIN:VEVENT
DTSTART;TZID=America/New_York:20261024T083000
DTEND;TZID=America/New_York:20261024T153000
DTSTAMP:20260425T200156
CREATED:20250925T200443Z
LAST-MODIFIED:20250925T200443Z
UID:10002216-1792830600-1792855800@www.emcmedicaltraining.com
SUMMARY:AHA ACLS  1 Day Refresher
DESCRIPTION:ACLS Refresher Course at Emergency Medical Consultants in Port St. Lucie\, Florida. Prior registration is required. \nCancellation & Rescheduling Policy – Course sizes are limited\, ratios are strict\, and spaces often fill. We must enforce the following: \n• >5 business days’ notice: No fee (except TNCC\, ENPC\, Phlebotomy\, EKG\, Instructor & Online – see below). Max 2 reschedules; must be used within 6 months. \n• 2–5 business days’ notice: 50% fee (except courses listed above). \n• <48 hrs/No-Show: No refunds. Non-reschedulable. \n• TNCC/ENPC: Non-refundable within 30 days; >30 days = 50% refund. \n• Phlebotomy\, EKG\, Instructor: & Online Courses: Non-refundable\, non-reschedulable once registered. \nNote: Textbooks & shipping fees are non-refundable.
URL:https://www.emcmedicaltraining.com/event/aha-acls-1-day-refresher-38/
LOCATION:EMC\, 595 SE Port St. Lucie Blvd\, Port St. Lucie\, FL\, 34985\, United States
CATEGORIES:ACLS
GEO:27.2728181;-80.3349485
X-APPLE-STRUCTURED-LOCATION;VALUE=URI;X-ADDRESS=EMC 595 SE Port St. Lucie Blvd Port St. Lucie FL 34985 United States;X-APPLE-RADIUS=500;X-TITLE=595 SE Port St. Lucie Blvd:geo:-80.3349485,27.2728181
END:VEVENT
END:VCALENDAR