BEGIN:VCALENDAR
VERSION:2.0
PRODID:-//EMC Medical Training - ECPv6.15.20//NONSGML v1.0//EN
CALSCALE:GREGORIAN
METHOD:PUBLISH
X-ORIGINAL-URL:https://www.emcmedicaltraining.com
X-WR-CALDESC:Events for EMC Medical Training
REFRESH-INTERVAL;VALUE=DURATION:PT1H
X-Robots-Tag:noindex
X-PUBLISHED-TTL:PT1H
BEGIN:VTIMEZONE
TZID:America/New_York
BEGIN:DAYLIGHT
TZOFFSETFROM:-0500
TZOFFSETTO:-0400
TZNAME:EDT
DTSTART:20250309T070000
END:DAYLIGHT
BEGIN:STANDARD
TZOFFSETFROM:-0400
TZOFFSETTO:-0500
TZNAME:EST
DTSTART:20251102T060000
END:STANDARD
BEGIN:DAYLIGHT
TZOFFSETFROM:-0500
TZOFFSETTO:-0400
TZNAME:EDT
DTSTART:20260308T070000
END:DAYLIGHT
BEGIN:STANDARD
TZOFFSETFROM:-0400
TZOFFSETTO:-0500
TZNAME:EST
DTSTART:20261101T060000
END:STANDARD
BEGIN:DAYLIGHT
TZOFFSETFROM:-0500
TZOFFSETTO:-0400
TZNAME:EDT
DTSTART:20270314T070000
END:DAYLIGHT
BEGIN:STANDARD
TZOFFSETFROM:-0400
TZOFFSETTO:-0500
TZNAME:EST
DTSTART:20271107T060000
END:STANDARD
END:VTIMEZONE
BEGIN:VEVENT
DTSTART;TZID=America/New_York:20261107T083000
DTEND;TZID=America/New_York:20261107T153000
DTSTAMP:20260425T212517
CREATED:20250925T200901Z
LAST-MODIFIED:20250925T200901Z
UID:10002217-1794040200-1794065400@www.emcmedicaltraining.com
SUMMARY:AHA ACLS  1 Day Refresher
DESCRIPTION:ACLS Refresher Course at Emergency Medical Consultants in Port St. Lucie\, Florida. Prior registration is required. \nCancellation & Rescheduling Policy – Course sizes are limited\, ratios are strict\, and spaces often fill. We must enforce the following: \n• >5 business days’ notice: No fee (except TNCC\, ENPC\, Phlebotomy\, EKG\, Instructor & Online – see below). Max 2 reschedules; must be used within 6 months. \n• 2–5 business days’ notice: 50% fee (except courses listed above). \n• <48 hrs/No-Show: No refunds. Non-reschedulable. \n• TNCC/ENPC: Non-refundable within 30 days; >30 days = 50% refund. \n• Phlebotomy\, EKG\, Instructor: & Online Courses: Non-refundable\, non-reschedulable once registered. \nNote: Textbooks & shipping fees are non-refundable.
URL:https://www.emcmedicaltraining.com/event/aha-acls-1-day-refresher-39/
LOCATION:EMC\, 595 SE Port St. Lucie Blvd\, Port St. Lucie\, FL\, 34985\, United States
CATEGORIES:ACLS
GEO:27.2728181;-80.3349485
X-APPLE-STRUCTURED-LOCATION;VALUE=URI;X-ADDRESS=EMC 595 SE Port St. Lucie Blvd Port St. Lucie FL 34985 United States;X-APPLE-RADIUS=500;X-TITLE=595 SE Port St. Lucie Blvd:geo:-80.3349485,27.2728181
END:VEVENT
BEGIN:VEVENT
DTSTART;TZID=America/New_York:20261114T083000
DTEND;TZID=America/New_York:20261115T163000
DTSTAMP:20260425T212517
CREATED:20251118T213229Z
LAST-MODIFIED:20251118T213229Z
UID:10002291-1794645000-1794760200@www.emcmedicaltraining.com
SUMMARY:AHA ACLS 2 Day Full Course (Jupiter)
DESCRIPTION:AHA ACLS 2 Day Full Course at Jupiter Medical Center in Jupiter\, Florida prior registration is required. \nCancellation & Rescheduling Policy – Course sizes are limited\, ratios are strict\, and spaces often fill. We must enforce the following: \n• >5 business days’ notice: No fee (except TNCC\, ENPC\, Phlebotomy\, EKG\, Instructor & Online – see below). Max 2 reschedules; must be used within 6 months. \n• 2–5 business days’ notice: 50% fee (except courses listed above). \n• <48 hrs/No-Show: No refunds. Non-reschedulable. \n• TNCC/ENPC: Non-refundable within 30 days; >30 days = 50% refund. \n• Phlebotomy\, EKG\, Instructor: & Online Courses: Non-refundable\, non-reschedulable once registered. \nNote: Textbooks & shipping fees are non-refundable.
URL:https://www.emcmedicaltraining.com/event/aha-acls-2-day-full-course-jupiter-11/
LOCATION:Jupiter Medical Center\, 1210 Old Dixie Highway\, Jupiter\, FL\, 33458\, United States
CATEGORIES:ACLS
GEO:26.9225859;-80.0964668
X-APPLE-STRUCTURED-LOCATION;VALUE=URI;X-ADDRESS=Jupiter Medical Center 1210 Old Dixie Highway Jupiter FL 33458 United States;X-APPLE-RADIUS=500;X-TITLE=1210 Old Dixie Highway:geo:-80.0964668,26.9225859
END:VEVENT
BEGIN:VEVENT
DTSTART;TZID=America/New_York:20261115T083000
DTEND;TZID=America/New_York:20261115T153000
DTSTAMP:20260425T212517
CREATED:20251118T195642Z
LAST-MODIFIED:20251118T195957Z
UID:10002278-1794731400-1794756600@www.emcmedicaltraining.com
SUMMARY:AHA ACLS  1 Day Refresher (Jupiter)
DESCRIPTION:ACLS Refresher Course in Jupiter Medical Center in Jupiter\, Florida. Prior registration is required. \nCancellation & Rescheduling Policy – Course sizes are limited\, ratios are strict\, and spaces often fill. We must enforce the following: \n• >5 business days’ notice: No fee (except TNCC\, ENPC\, Phlebotomy\, EKG\, Instructor & Online – see below). Max 2 reschedules; must be used within 6 months. \n• 2–5 business days’ notice: 50% fee (except courses listed above). \n• <48 hrs/No-Show: No refunds. Non-reschedulable. \n• TNCC/ENPC: Non-refundable within 30 days; >30 days = 50% refund. \n• Phlebotomy\, EKG\, Instructor: & Online Courses: Non-refundable\, non-reschedulable once registered. \nNote: Textbooks & shipping fees are non-refundable.
URL:https://www.emcmedicaltraining.com/event/aha-acls-1-day-refresher-jupiter-13/
LOCATION:Jupiter Medical Center\, 1210 Old Dixie Highway\, Jupiter\, FL\, 33458\, United States
CATEGORIES:ACLS
GEO:26.9225859;-80.0964668
X-APPLE-STRUCTURED-LOCATION;VALUE=URI;X-ADDRESS=Jupiter Medical Center 1210 Old Dixie Highway Jupiter FL 33458 United States;X-APPLE-RADIUS=500;X-TITLE=1210 Old Dixie Highway:geo:-80.0964668,26.9225859
END:VEVENT
BEGIN:VEVENT
DTSTART;TZID=America/New_York:20261116T083000
DTEND;TZID=America/New_York:20261116T153000
DTSTAMP:20260425T212517
CREATED:20250925T201253Z
LAST-MODIFIED:20250925T201253Z
UID:10002218-1794817800-1794843000@www.emcmedicaltraining.com
SUMMARY:AHA ACLS  1 Day Refresher
DESCRIPTION:ACLS Refresher Course at Emergency Medical Consultants in Port St. Lucie\, Florida. Prior registration is required. \nCancellation & Rescheduling Policy – Course sizes are limited\, ratios are strict\, and spaces often fill. We must enforce the following: \n• >5 business days’ notice: No fee (except TNCC\, ENPC\, Phlebotomy\, EKG\, Instructor & Online – see below). Max 2 reschedules; must be used within 6 months. \n• 2–5 business days’ notice: 50% fee (except courses listed above). \n• <48 hrs/No-Show: No refunds. Non-reschedulable. \n• TNCC/ENPC: Non-refundable within 30 days; >30 days = 50% refund. \n• Phlebotomy\, EKG\, Instructor: & Online Courses: Non-refundable\, non-reschedulable once registered. \nNote: Textbooks & shipping fees are non-refundable.
URL:https://www.emcmedicaltraining.com/event/aha-acls-1-day-refresher-40/
LOCATION:EMC\, 595 SE Port St. Lucie Blvd\, Port St. Lucie\, FL\, 34985\, United States
CATEGORIES:ACLS
GEO:27.2728181;-80.3349485
X-APPLE-STRUCTURED-LOCATION;VALUE=URI;X-ADDRESS=EMC 595 SE Port St. Lucie Blvd Port St. Lucie FL 34985 United States;X-APPLE-RADIUS=500;X-TITLE=595 SE Port St. Lucie Blvd:geo:-80.3349485,27.2728181
END:VEVENT
BEGIN:VEVENT
DTSTART;TZID=America/New_York:20261119T083000
DTEND;TZID=America/New_York:20261120T153000
DTSTAMP:20260425T212517
CREATED:20250925T205427Z
LAST-MODIFIED:20250925T205427Z
UID:10002234-1795077000-1795188600@www.emcmedicaltraining.com
SUMMARY:AHA ACLS 2 Day Full Course
DESCRIPTION:AHA ACLS 2 Day Full Course at Emergency Medical Consultants in Port St. Lucie\, Florida prior registration is required. \nCancellation & Rescheduling Policy – Course sizes are limited\, ratios are strict\, and spaces often fill. We must enforce the following: \n• >5 business days’ notice: No fee (except TNCC\, ENPC\, Phlebotomy\, EKG\, Instructor & Online – see below). Max 2 reschedules; must be used within 6 months. \n• 2–5 business days’ notice: 50% fee (except courses listed above). \n• <48 hrs/No-Show: No refunds. Non-reschedulable. \n• TNCC/ENPC: Non-refundable within 30 days; >30 days = 50% refund. \n• Phlebotomy\, EKG\, Instructor: & Online Courses: Non-refundable\, non-reschedulable once registered. \nNote: Textbooks & shipping fees are non-refundable.
URL:https://www.emcmedicaltraining.com/event/aha-acls-2-day-full-course-11/
LOCATION:EMC\, 595 SE Port St. Lucie Blvd\, Port St. Lucie\, FL\, 34985\, United States
CATEGORIES:ACLS
GEO:27.2728181;-80.3349485
X-APPLE-STRUCTURED-LOCATION;VALUE=URI;X-ADDRESS=EMC 595 SE Port St. Lucie Blvd Port St. Lucie FL 34985 United States;X-APPLE-RADIUS=500;X-TITLE=595 SE Port St. Lucie Blvd:geo:-80.3349485,27.2728181
END:VEVENT
BEGIN:VEVENT
DTSTART;TZID=America/New_York:20261128T083000
DTEND;TZID=America/New_York:20261128T153000
DTSTAMP:20260425T212517
CREATED:20250925T201516Z
LAST-MODIFIED:20250925T201516Z
UID:10002219-1795854600-1795879800@www.emcmedicaltraining.com
SUMMARY:AHA ACLS  1 Day Refresher
DESCRIPTION:ACLS Refresher Course at Emergency Medical Consultants in Port St. Lucie\, Florida. Prior registration is required. \nCancellation & Rescheduling Policy – Course sizes are limited\, ratios are strict\, and spaces often fill. We must enforce the following: \n• >5 business days’ notice: No fee (except TNCC\, ENPC\, Phlebotomy\, EKG\, Instructor & Online – see below). Max 2 reschedules; must be used within 6 months. \n• 2–5 business days’ notice: 50% fee (except courses listed above). \n• <48 hrs/No-Show: No refunds. Non-reschedulable. \n• TNCC/ENPC: Non-refundable within 30 days; >30 days = 50% refund. \n• Phlebotomy\, EKG\, Instructor: & Online Courses: Non-refundable\, non-reschedulable once registered. \nNote: Textbooks & shipping fees are non-refundable.
URL:https://www.emcmedicaltraining.com/event/aha-acls-1-day-refresher-41/
LOCATION:EMC\, 595 SE Port St. Lucie Blvd\, Port St. Lucie\, FL\, 34985\, United States
CATEGORIES:ACLS
GEO:27.2728181;-80.3349485
X-APPLE-STRUCTURED-LOCATION;VALUE=URI;X-ADDRESS=EMC 595 SE Port St. Lucie Blvd Port St. Lucie FL 34985 United States;X-APPLE-RADIUS=500;X-TITLE=595 SE Port St. Lucie Blvd:geo:-80.3349485,27.2728181
END:VEVENT
END:VCALENDAR